BEGIN:VCALENDAR
VERSION:2.0
PRODID:Spatie calendar-links
BEGIN:VEVENT
UID:33293dfd8d89bc1f038931370038def1
SUMMARY:Freakstock 2026 Jesus Festival Musikfestival
DTSTAMP:20250731T120000Z
DTSTART:20250731T120000Z
DTEND:20250803T150000Z
LOCATION:Allstedt\, allstedt\, Germany
END:VEVENT
END:VCALENDAR