BEGIN:VCALENDAR
VERSION:2.0
PRODID:Spatie calendar-links
BEGIN:VEVENT
UID:4cb5c049f03f9fa46d08cfb6ea2c1461
SUMMARY:Christival 2028 Christliches Festival Musikfestival
DTSTAMP:20280524T120000Z
DTSTART:20280524T120000Z
DTEND:20280528T170000Z
LOCATION:Germany
END:VEVENT
END:VCALENDAR