BEGIN:VCALENDAR
VERSION:2.0
PRODID:Spatie calendar-links
BEGIN:VEVENT
UID:4f786ad8b3287e04f6f03641c468e4a7
SUMMARY:Jungfamilientreffen Kremsmünster 2025
DTSTAMP:20250722T090000Z
DTSTART:20250722T090000Z
DTEND:20250727T120000Z
LOCATION:Austria
END:VEVENT
END:VCALENDAR