BEGIN:VCALENDAR
VERSION:2.0
PRODID:Spatie calendar-links
BEGIN:VEVENT
UID:aeb45976e58f888af5c2411b0f5a24a2
SUMMARY:Kanafest Kana Festival Maria Roggendorf 2026
DTSTAMP:20260704T220000Z
DTSTART:20260704T220000Z
DTEND:20260705T220000Z
LOCATION:Wullersdorf\, Lower Austria\, Austria
END:VEVENT
END:VCALENDAR