BEGIN:VCALENDAR
VERSION:2.0
PRODID:Spatie calendar-links
BEGIN:VEVENT
UID:e282df62d22dbe902b58c4bf073030b8
SUMMARY:Fest der Jugend Pfingstkongress Salzburg  Pfingsten 2026
DTSTAMP:20260522T220000Z
DTSTART:20260522T220000Z
DTEND:20260523T220000Z
LOCATION:salzburg\, salzburg\, Austria
END:VEVENT
END:VCALENDAR