BEGIN:VCALENDAR
VERSION:2.0
PRODID:Spatie calendar-links
BEGIN:VEVENT
UID:d04a2be178af7ed991bc4780280b28d9
SUMMARY:Jugendtreffen Kremsmünster 2026
DTSTAMP:20260714T220000Z
DTSTART:20260714T220000Z
DTEND:20260719T220000Z
LOCATION:1 Stift\, Kremsmünster\, Upper Austria\, Austria
END:VEVENT
END:VCALENDAR