BEGIN:VCALENDAR
VERSION:2.0
PRODID:Spatie calendar-links
BEGIN:VEVENT
UID:b46df81c78a703875835746416b34edd
SUMMARY:Allianzgebetswoche 2026
DTSTAMP:20260110T230000Z
DTSTART:20260110T230000Z
DTEND:20260117T230000Z
LOCATION:Germany
END:VEVENT
END:VCALENDAR