BEGIN:VCALENDAR
VERSION:2.0
PRODID:Spatie calendar-links
BEGIN:VEVENT
UID:62a717879262f46507da4a6148eb3197
SUMMARY:Vienna Worship Night 2026
DTSTAMP:20260515T180000Z
DTSTART:20260515T180000Z
DTEND:20260515T200000Z
LOCATION:146 Wiedner Hauptstraße\, Vienna\, wien\, Austria
END:VEVENT
END:VCALENDAR