BEGIN:VCALENDAR
VERSION:2.0
PRODID:Spatie calendar-links
BEGIN:VEVENT
UID:712dce4dffb2d5c36ed60f045ed6b5b2
SUMMARY:Jungfamilientreffen Deutschland 2025 Jungfamilien Treffen
DTSTAMP:20250810T220000Z
DTSTART:20250810T220000Z
DTEND:20250815T220000Z
LOCATION:2 Neuhof\, Nauen\, Brandenburg\, Germany
END:VEVENT
END:VCALENDAR