BEGIN:VCALENDAR
VERSION:2.0
PRODID:Spatie calendar-links
BEGIN:VEVENT
UID:f8db6b00f411008b360fb7ac525cb48b
SUMMARY:ALLIANZJUGENDCAMP 2026 Allianz Jugendcamp Festival
DTSTAMP:20260801T160000Z
DTSTART:20260801T160000Z
DTEND:20260809T140000Z
LOCATION:Bad Blankenburg\, Bad Blankenburg\, Germany
END:VEVENT
END:VCALENDAR