BEGIN:VCALENDAR
VERSION:2.0
PRODID:Spatie calendar-links
BEGIN:VEVENT
UID:741a08b9cae1ab0d9a52a53fc5e0cdea
SUMMARY:Gig Gott ist gut Konferenz Bad Gögging 2026
DTSTAMP:20251018T070000Z
DTSTART:20251018T070000Z
DTEND:20251018T190000Z
LOCATION:Germany
END:VEVENT
END:VCALENDAR