BEGIN:VCALENDAR
VERSION:2.0
PRODID:Spatie calendar-links
BEGIN:VEVENT
UID:cdb06cf3730e0ad5eb2692be0537bff8
SUMMARY:Praisecamp Basel 2026 Schweiz
DTSTAMP:20261227T100000Z
DTSTART:20261227T100000Z
DTEND:20270101T220000Z
LOCATION:10 Messeplatz\, Basel\, Basel\, Switzerland
END:VEVENT
END:VCALENDAR