BEGIN:VCALENDAR
VERSION:2.0
PRODID:Spatie calendar-links
BEGIN:VEVENT
UID:e9a566e07364f0d5a4feed69575d0391
SUMMARY:Allianzkonferenz Bad Blankenburg 2026
DTSTAMP:20260804T230000Z
DTSTART:20260804T230000Z
DTEND:20260808T230000Z
LOCATION:Bad Blankenburg\, Bad Blankenburg\, Germany
END:VEVENT
END:VCALENDAR