BEGIN:VCALENDAR
VERSION:2.0
PRODID:Spatie calendar-links
BEGIN:VEVENT
UID:c01f4d9aaa3cfb86ab9574e1bdafb36c
SUMMARY:Spring 2026 Christliches Festival Willingen
DTSTAMP:20260406T220000Z
DTSTART:20260406T220000Z
DTEND:20260411T220000Z
LOCATION:Germany
END:VEVENT
END:VCALENDAR