BEGIN:VCALENDAR
VERSION:2.0
PRODID:Spatie calendar-links
BEGIN:VEVENT
UID:9bb0df72cea95642bd88f5447f1c0abc
SUMMARY:GIG Festival 2026 Gott ist Gut
DTSTAMP:20250815T100000Z
DTSTART:20250815T100000Z
DTEND:20250817T100000Z
LOCATION:Bad Neuenahr-Ahrweiler\, rosenthal\, Germany
END:VEVENT
END:VCALENDAR