BEGIN:VCALENDAR
VERSION:2.0
PRODID:Spatie calendar-links
BEGIN:VEVENT
UID:5904d24bc103460e92966991c643a271
SUMMARY:Praisecamp Österreich 2026 Praise Camp
DTSTAMP:20240102T140000Z
DTSTART:20240102T140000Z
DTEND:20240106T210000Z
LOCATION:Austria
END:VEVENT
END:VCALENDAR