BEGIN:VCALENDAR
VERSION:2.0
PRODID:Spatie calendar-links
BEGIN:VEVENT
UID:53a1079326841022b72790e0aed8142f
SUMMARY:Nordpoint 2026 Christliche Jugendfreizeit Schloss Ascheberg
DTSTAMP:20260522T020000Z
DTSTART:20260522T020000Z
DTEND:20260525T020000Z
LOCATION:Germany
END:VEVENT
END:VCALENDAR