BEGIN:VCALENDAR
VERSION:2.0
PRODID:Spatie calendar-links
BEGIN:VEVENT
UID:104814d81208a6fddddbae76b6374da3
SUMMARY:JAM Jugendfestival 2026 Christliches Musikfestival BAM Festival
DTSTAMP:20260529T180000Z
DTSTART:20260529T180000Z
DTEND:20260531T010000Z
LOCATION:Germany
END:VEVENT
END:VCALENDAR